BEGIN:VCALENDAR
VERSION:2.0
PRODID:-//Guilford College - ECPv6.15.11//NONSGML v1.0//EN
CALSCALE:GREGORIAN
METHOD:PUBLISH
X-ORIGINAL-URL:https://www.giving.guilford.edu
X-WR-CALDESC:Events for Guilford College
REFRESH-INTERVAL;VALUE=DURATION:PT1H
X-Robots-Tag:noindex
X-PUBLISHED-TTL:PT1H
BEGIN:VTIMEZONE
TZID:America/New_York
BEGIN:DAYLIGHT
TZOFFSETFROM:-0500
TZOFFSETTO:-0400
TZNAME:EDT
DTSTART:20240310T070000
END:DAYLIGHT
BEGIN:STANDARD
TZOFFSETFROM:-0400
TZOFFSETTO:-0500
TZNAME:EST
DTSTART:20241103T060000
END:STANDARD
BEGIN:DAYLIGHT
TZOFFSETFROM:-0500
TZOFFSETTO:-0400
TZNAME:EDT
DTSTART:20250309T070000
END:DAYLIGHT
BEGIN:STANDARD
TZOFFSETFROM:-0400
TZOFFSETTO:-0500
TZNAME:EST
DTSTART:20251102T060000
END:STANDARD
BEGIN:DAYLIGHT
TZOFFSETFROM:-0500
TZOFFSETTO:-0400
TZNAME:EDT
DTSTART:20260308T070000
END:DAYLIGHT
BEGIN:STANDARD
TZOFFSETFROM:-0400
TZOFFSETTO:-0500
TZNAME:EST
DTSTART:20261101T060000
END:STANDARD
END:VTIMEZONE
BEGIN:VEVENT
DTSTART;TZID=America/New_York:20250314T080000
DTEND;TZID=America/New_York:20250315T200000
DTSTAMP:20260421T220035
CREATED:20250115T172912Z
LAST-MODIFIED:20250115T174002Z
UID:10749-1741939200-1742068800@www.giving.guilford.edu
SUMMARY:Physics Reunion 2025
DESCRIPTION:It’s time for the 2025 Physics Reunion!\nThe time has come! Register now for the Guilford College Physics Department reunion March 14 – 15\, 2025. We have a weekend of programming that will allow you to hear from one another\, connect with current students\, and much more. \nOn March 14\, Tom English ’82\, will give the 20th Sheridan Simon lecture.  Tom has taught undergraduate physics and astronomy\, and directed observator outreach programs\, for 36 years\, first at Gardner-Webb University and then at Guilford Technical Community College. His primary professional interests are astronomy education/outreach\, dark skies advocacy\, and the history of astronomy\, specifically nineteenth century solar eclipse expeditions and the rise of astrophysics. \nYou’ll find on the registration page an opportunity to volunteer to be a conference presenter. Are you interested in speaking about your current or past work?  Your perspective on an interesting challenge facing society?  An observation you have made about the world?  We have presentation opportunities on both Friday and Saturday. Click on the website link in the event details below to register.
URL:https://www.giving.guilford.edu/event/physics-reunion-2025/
LOCATION:Guilford College\, 5800 W Friendly Avenue\, Greensboro\, NC\, 27410\, United States
CATEGORIES:Alumni,Reunions
ATTACH;FMTTYPE=image/jpeg:https://www.giving.guilford.edu/wp-content/uploads/2025/01/feature-pic.jpg
ORGANIZER;CN="Lauren Reinking":MAILTO:lreinking@guilford.edu
END:VEVENT
END:VCALENDAR