BEGIN:VCALENDAR
VERSION:2.0
PRODID:-//Guilford College - ECPv6.15.11//NONSGML v1.0//EN
CALSCALE:GREGORIAN
METHOD:PUBLISH
X-ORIGINAL-URL:https://www.giving.guilford.edu
X-WR-CALDESC:Events for Guilford College
REFRESH-INTERVAL;VALUE=DURATION:PT1H
X-Robots-Tag:noindex
X-PUBLISHED-TTL:PT1H
BEGIN:VTIMEZONE
TZID:America/New_York
BEGIN:DAYLIGHT
TZOFFSETFROM:-0500
TZOFFSETTO:-0400
TZNAME:EDT
DTSTART:20240310T070000
END:DAYLIGHT
BEGIN:STANDARD
TZOFFSETFROM:-0400
TZOFFSETTO:-0500
TZNAME:EST
DTSTART:20241103T060000
END:STANDARD
BEGIN:DAYLIGHT
TZOFFSETFROM:-0500
TZOFFSETTO:-0400
TZNAME:EDT
DTSTART:20250309T070000
END:DAYLIGHT
BEGIN:STANDARD
TZOFFSETFROM:-0400
TZOFFSETTO:-0500
TZNAME:EST
DTSTART:20251102T060000
END:STANDARD
BEGIN:DAYLIGHT
TZOFFSETFROM:-0500
TZOFFSETTO:-0400
TZNAME:EDT
DTSTART:20260308T070000
END:DAYLIGHT
BEGIN:STANDARD
TZOFFSETFROM:-0400
TZOFFSETTO:-0500
TZNAME:EST
DTSTART:20261101T060000
END:STANDARD
END:VTIMEZONE
BEGIN:VEVENT
DTSTART;TZID=America/New_York:20250404T080000
DTEND;TZID=America/New_York:20250406T170000
DTSTAMP:20260422T003422
CREATED:20241210T143528Z
LAST-MODIFIED:20241210T143528Z
UID:10742-1743753600-1743958800@www.giving.guilford.edu
SUMMARY:Golden Circle- Class of 1975 50th Reunion
DESCRIPTION:Registration opens in January!
URL:https://www.giving.guilford.edu/event/golden-circle-class-of-1975-50th-reunion/
LOCATION:Guilford College\, 5800 W Friendly Avenue\, Greensboro\, NC\, 27410\, United States
CATEGORIES:Alumni,Golden Circle
ATTACH;FMTTYPE=image/png:https://www.giving.guilford.edu/wp-content/uploads/2024/12/GRC-1975.png
ORGANIZER;CN="Lauren Reinking":MAILTO:lreinking@guilford.edu
END:VEVENT
END:VCALENDAR